BEGIN:VCALENDAR
VERSION:2.0
PRODID:-//ChamberMaster//Event Calendar 2.0//EN
METHOD:PUBLISH
X-PUBLISHED-TTL:P3D
REFRESH-INTERVAL:P3D
CALSCALE:GREGORIAN
BEGIN:VEVENT
DTSTART:20210529T150000Z
DTEND:20210529T190000Z
X-MICROSOFT-CDO-ALLDAYEVENT:FALSE
SUMMARY:Jurassic Experience at the Science Mill
DESCRIPTION:Travel back to the time of dinosaurs at Jurassic Experience at the Science Mill! Experience a new 4D virtual reality experience\, Jurassic Flight\, and explore a prehistoric world as a soaring pterosaur. Measure massive footprints\, dig for fossils\, catch special screenings of "Flying Monsters"\, make skeletons from pasta "bones"\, meet dinosaur cousins at Tortoise Talks and dino descendants (raptors) from Austin Wildlife Rescue. Special activities run 10am-2pm. Visit the admission counter to reserve tickets to Jurassic Flight at no additional cost arrive early\, because these limited spots will "fly!" (Minimum arm span requirement of 48 inches to ride Jurassic Flight.) The first 100 guests receive a free dino treat from Lady Bird Lane Caf !
X-ALT-DESC;FMTTYPE=text/html:Travel back to the time of dinosaurs at Jurassic Experience at the Science Mill! Experience a new 4D virtual reality experience\, Jurassic Flight\, and explore a prehistoric world as a soaring pterosaur. Measure massive footprints\, dig for fossils\, catch special screenings of &ldquo\;Flying Monsters&rdquo\;\, make skeletons from pasta &ldquo\;bones&rdquo\;\, meet dinosaur cousins at Tortoise Talks and dino descendants (raptors) from Austin Wildlife Rescue. Special activities run 10am-2pm. Visit the admission counter to reserve tickets to Jurassic Flight at no additional cost&mdash\;arrive early\, because these limited spots will &ldquo\;fly!&rdquo\; (Minimum arm span requirement of 48 inches to ride Jurassic Flight.) The first 100 guests receive a free dino treat from Lady Bird Lane Caf&eacute\;!
LOCATION:101 S Lady Bird Lane Johnson City\, TX 78636
UID:e.2123.10771
SEQUENCE:3
DTSTAMP:20260423T235859Z
URL:https://laketravischamberfest.com/events/details/jurassic-experience-at-the-science-mill-10771
END:VEVENT

END:VCALENDAR
