BEGIN:VCALENDAR
VERSION:2.0
PRODID:-//ChamberMaster//Event Calendar 2.0//EN
METHOD:PUBLISH
X-PUBLISHED-TTL:P3D
REFRESH-INTERVAL:P3D
CALSCALE:GREGORIAN
BEGIN:VEVENT
DTSTART:20191207T134500Z
DTEND:20191207T180000Z
X-MICROSOFT-CDO-ALLDAYEVENT:FALSE
SUMMARY:Jingle Bell 5K
DESCRIPTION:Benefitting LTHS cross country and track booster club.
X-ALT-DESC;FMTTYPE=text/html:Benefitting LTHS cross country and track booster club.
LOCATION:Hill Country Galleria
UID:e.2123.10032
SEQUENCE:3
DTSTAMP:20260422T225424Z
URL:https://laketravischamberfest.com/events/details/jingle-bell-5k-10032
END:VEVENT

END:VCALENDAR
