BEGIN:VCALENDAR
VERSION:2.0
PRODID:-//ChamberMaster//Event Calendar 2.0//EN
METHOD:PUBLISH
X-PUBLISHED-TTL:P3D
REFRESH-INTERVAL:P3D
CALSCALE:GREGORIAN
BEGIN:VEVENT
DTSTART:20180922T000000Z
DTEND:20180922T023000Z
X-MICROSOFT-CDO-ALLDAYEVENT:FALSE
SUMMARY:Jennifer B and the Groove Play Spicewood
DESCRIPTION:Get ready for a night of great music when Jennifer B and the Groove play the Spicewood Vineyards Event Center at 7 p.m. Sept. 21. This talented\, energetic\, soulful band is led by singer-songwriter Jennifer B\, whose powerful high-octane voice lands between Aretha Franklin and Janis Joplin. They play a variety of music\, including Blues\, Roots-Rock and Americana. With a fresh unique approach to some great classic covers\, the band also incorporates new\, original songs written by Jennifer\, showcasing her gut-wrenching voice and heart-tugging lyrics. Band members include Dr. D\, bass guitar and vocals\; Jose Barragan\, lead guitar\, vocals\; and Dan Poole\, drums and vocals. On sale will be Down Dark Waters\, the band's newest release featuring Jennifer's songwriting skills. Special guests on the EP include Van Wilks\, Chris Marsh\, Jackie Venson\, Adrian Myers\, and more.
X-ALT-DESC;FMTTYPE=text/html:Get ready for a night of great music when Jennifer B and the Groove play the Spicewood Vineyards Event Center at 7 p.m. Sept. 21. This talented\, energetic\, soulful band is led by singer-songwriter Jennifer B\, whose powerful high-octane voice lands between Aretha Franklin and Janis Joplin. They play a variety of music\, including Blues\, Roots-Rock and Americana. With a fresh unique approach to some great classic covers\, the band also incorporates new\, original songs written by Jennifer\, showcasing her gut-wrenching voice and heart-tugging lyrics. Band members include Dr. D\, bass guitar and vocals\; Jose Barragan\, lead guitar\, vocals\; and Dan Poole\, drums and vocals. On sale will be Down Dark Waters\, the band&#39\;s newest release featuring Jennifer&#39\;s songwriting skills. Special guests on the EP include Van Wilks\, Chris Marsh\, Jackie Venson\, Adrian Myers\, and more.
LOCATION:Spicewood Vineyards Event Center 1419 Co. Rd. 409\, Spicewood TX
UID:e.2123.9717
SEQUENCE:3
DTSTAMP:20260421T233404Z
URL:https://laketravischamberfest.com/events/details/jennifer-b-and-the-groove-play-spicewood-9717
END:VEVENT

END:VCALENDAR
