BEGIN:VCALENDAR
VERSION:2.0
PRODID:-//ChamberMaster//Event Calendar 2.0//EN
METHOD:PUBLISH
X-PUBLISHED-TTL:P3D
REFRESH-INTERVAL:P3D
CALSCALE:GREGORIAN
BEGIN:VEVENT
DTSTART:20220309T230000Z
DTEND:20220310T010000Z
X-MICROSOFT-CDO-ALLDAYEVENT:FALSE
SUMMARY:Jacquelyn's Spa Ribbon Cutting & Grand Opening Celebration
DESCRIPTION:Jackie will have drinks and snacks\, goodie bags\, 8 drawings for free services\, the history of how Jacquelyn's was started\, and any appointment scheduled while at the event\, will get 20% off!
X-ALT-DESC;FMTTYPE=text/html:<span style="background-color: rgb(255\, 255\, 255)\;"><font color="#222222" face="Arial\, Helvetica\, sans-serif" size="2">Jackie will have drinks and snacks\, goodie bags\, 8 drawings for free services\, the history of how Jacquelyn&#39\;s&nbsp\;was started\, and any appointment scheduled while at the event\, will get 20% off!</font></span>
LOCATION:1310 Ranch Road 620 South\, Suite B199\, Lakeway\, TX 78734
UID:e.2123.11086
SEQUENCE:3
DTSTAMP:20260424T020111Z
URL:https://laketravischamberfest.com/events/details/jacquelyn-s-spa-ribbon-cutting-grand-opening-celebration-11086
END:VEVENT

END:VCALENDAR
