BEGIN:VCALENDAR
VERSION:2.0
PRODID:-//ChamberMaster//Event Calendar 2.0//EN
METHOD:PUBLISH
X-PUBLISHED-TTL:P3D
REFRESH-INTERVAL:P3D
CALSCALE:GREGORIAN
BEGIN:VEVENT
DTSTART:20211008T180000Z
DTEND:20211008T210000Z
X-MICROSOFT-CDO-ALLDAYEVENT:FALSE
SUMMARY:It's time for Breakthrough!
DESCRIPTION:Time for a Breakthrough!\n\n\n\nLadies\, you're invited to the Fellowship Center at Lakeway Church for a free afternoon matinee showing of the movie Breakthrough on Friday\, October 8\, from 1-4 PM. Snacks and childcare are provided. Please sign up here (https://lakewaychurch.breezechms.com/form/651ed6772939) so we can gauge attendance. Feel free to bring a friend!\n\n\n\nBreakthrough is a heart-wrenching testimony of the power of prayer and the strength of a mother's faith. Based on a true story about a teen who falls through the ice and has no pulse for 45 minutes\, and the courage and strength of his mother. If you are looking for inspiration for your faith or proof of the power of prayer\, this movie will not disappoint.
X-ALT-DESC;FMTTYPE=text/html:Time for a Breakthrough!<br />\n<br />\nLadies\, you&rsquo\;re invited to the Fellowship Center at Lakeway Church for a free afternoon matinee showing of the movie Breakthrough on Friday\, October 8\, from 1-4 PM. Snacks and childcare are provided. Please sign up here (<a href="https://lakewaychurch.breezechms.com/form/651ed6772939" target="_blank">https://lakewaychurch.breezechms.com/form/651ed6772939</a>) so we can gauge attendance. Feel free to bring a friend!<br />\n<br />\nBreakthrough is a heart-wrenching testimony of the power of prayer and the strength of a mother&rsquo\;s faith. Based on a true story about a teen who falls through the ice and has no pulse for 45 minutes\, and the courage and strength of his mother. If you are looking for inspiration for your faith or proof of the power of prayer\, this movie will not disappoint.
LOCATION:Fellowship Center at Lakeway Church
UID:e.2123.10921
SEQUENCE:3
DTSTAMP:20260424T065722Z
URL:https://laketravischamberfest.com/events/details/it-s-time-for-breakthrough-10921
END:VEVENT

END:VCALENDAR
