BEGIN:VCALENDAR
VERSION:2.0
PRODID:-//ChamberMaster//Event Calendar 2.0//EN
METHOD:PUBLISH
X-PUBLISHED-TTL:P3D
REFRESH-INTERVAL:P3D
CALSCALE:GREGORIAN
BEGIN:VEVENT
DTSTART:20180203T000000Z
DTEND:20180203T040000Z
X-MICROSOFT-CDO-ALLDAYEVENT:FALSE
SUMMARY:IST Boots & Bling Gala
DESCRIPTION:Come celebrate with the International School of Texas at our 2018 IST Boots & Bling Gala. We have 70+ community sponsors and donors supporting our school. If you cannot attend the event\, you can still bid online for an item at www.32auctions.com/ISTgala. Alternatively\, you can always donate a gift directly to the school. All proceeds from this fundraiser go directly towards our non-profit school. Thank you for your support.
X-ALT-DESC;FMTTYPE=text/html:Come celebrate with the International School of Texas at our 2018 IST Boots &amp\; Bling Gala. We have 70+ community sponsors and donors supporting our school. If you cannot attend the event\, you can still bid online for an item at www.32auctions.com/ISTgala. Alternatively\, you can always donate a gift directly to the school. All proceeds from this fundraiser go directly towards our non-profit school. Thank you for your support.
LOCATION:16200 E. Lakeshore Drive
UID:e.2123.9559
SEQUENCE:3
DTSTAMP:20260421T131157Z
URL:https://laketravischamberfest.com/events/details/ist-boots-bling-gala-9559
END:VEVENT

END:VCALENDAR
