BEGIN:VCALENDAR
VERSION:2.0
PRODID:-//ChamberMaster//Event Calendar 2.0//EN
METHOD:PUBLISH
X-PUBLISHED-TTL:P3D
REFRESH-INTERVAL:P3D
CALSCALE:GREGORIAN
BEGIN:VEVENT
DTSTART:20181120T163000Z
DTEND:20181120T173000Z
X-MICROSOFT-CDO-ALLDAYEVENT:FALSE
SUMMARY:iPhone Basics Class
DESCRIPTION:iPhone Basics Class - Tuesday\, November 20th at 10:30am - Learn about the basic functions of your iPhone with Nicole Linko of Linko IT & Web Solutions.
X-ALT-DESC;FMTTYPE=text/html:iPhone Basics Class - Tuesday\, November 20th at 10:30am - Learn about the basic functions of your iPhone with Nicole Linko of Linko IT &amp\; Web Solutions.
LOCATION:Lake Travis Community Library 1938 Lohmans Crossing Austin\, Texas 78734
UID:e.2123.9743
SEQUENCE:3
DTSTAMP:20260422T024055Z
URL:https://laketravischamberfest.com/events/details/iphone-basics-class-9743
END:VEVENT

END:VCALENDAR
