BEGIN:VCALENDAR
VERSION:2.0
PRODID:-//ChamberMaster//Event Calendar 2.0//EN
METHOD:PUBLISH
X-PUBLISHED-TTL:P3D
REFRESH-INTERVAL:P3D
CALSCALE:GREGORIAN
BEGIN:VEVENT
DTSTART:20180121T010000Z
DTEND:20180121T033000Z
X-MICROSOFT-CDO-ALLDAYEVENT:FALSE
SUMMARY:Invoke. . ."Classical-Not Classical"
DESCRIPTION:Start the New Year with a classical (but not classical) concert unlike anything you may have heard. Invoke\, a string quartet\, will bring its unique music to Spicewood Vineyards Event Center's stage at 7 p.m. Saturday\, Jan. 20. No tuxedoes on these musicians-with their casual dress and laid-back attitude\, they could be a down-home Americana band. They weave together bluegrass\, Appalachian fiddle tunes\, and twentieth century compositions for music that defies easy description but promises an evening that'll perk up your ears and warm your soul.Visit www.spicewoodarts.org for more information and to purchase tickets.
X-ALT-DESC;FMTTYPE=text/html:Start the New Year with a classical (but not classical) concert unlike anything you may have heard. Invoke\, a string quartet\, will bring its unique music to Spicewood Vineyards Event Center&#39\;s stage at 7 p.m. Saturday\, Jan. 20. No tuxedoes on these musicians-with their casual dress and laid-back attitude\, they could be a down-home Americana band. They weave together bluegrass\, Appalachian fiddle tunes\, and twentieth century compositions for music that defies easy description but promises an evening that&#39\;ll perk up your ears and warm your soul.Visit www.spicewoodarts.org for more information and to purchase tickets.
LOCATION:Spicewood Vineyards Event Center 1419 Co. Rd. 409\, Spicewood\, TX 78669
UID:e.2123.9535
SEQUENCE:3
DTSTAMP:20260421T113058Z
URL:https://laketravischamberfest.com/events/details/invoke-classical-not-classical-9535
END:VEVENT

END:VCALENDAR
