BEGIN:VCALENDAR
VERSION:2.0
PRODID:-//ChamberMaster//Event Calendar 2.0//EN
METHOD:PUBLISH
X-PUBLISHED-TTL:P3D
REFRESH-INTERVAL:P3D
CALSCALE:GREGORIAN
BEGIN:VEVENT
DTSTART:20190423T153000Z
DTEND:20190423T163000Z
X-MICROSOFT-CDO-ALLDAYEVENT:FALSE
SUMMARY:Introduction to LinkedIn with Laura Suelberg
DESCRIPTION:Introduction to LinkedIn - Tuesday\, April 23rd at 10:30am - Join Laura Suelberg\, owner of Lakeway Tech Coach in this beginner-level course. The goal of the course is for participants to become familiar with the basic concepts of LinkedIn and how the platform can help you to connect with co-workers\, friends\, businesses and other organizations.
X-ALT-DESC;FMTTYPE=text/html:Introduction to LinkedIn - Tuesday\, April 23rd at 10:30am - Join Laura Suelberg\, owner of Lakeway Tech Coach in this beginner-level course. The goal of the course is for participants to become familiar with the basic concepts of LinkedIn and how the platform can help you to connect with co-workers\, friends\, businesses and other organizations.
LOCATION:Lake Travis Community Library 1938 Lohmans Crossing Austin\, Texas 78734
UID:e.2123.9856
SEQUENCE:3
DTSTAMP:20260422T110038Z
URL:https://laketravischamberfest.com/events/details/introduction-to-linkedin-with-laura-suelberg-9856
END:VEVENT

END:VCALENDAR
