BEGIN:VCALENDAR
VERSION:2.0
PRODID:-//ChamberMaster//Event Calendar 2.0//EN
METHOD:PUBLISH
X-PUBLISHED-TTL:P3D
REFRESH-INTERVAL:P3D
CALSCALE:GREGORIAN
BEGIN:VEVENT
DTSTART:20200324T153000Z
DTEND:20200324T163000Z
X-MICROSOFT-CDO-ALLDAYEVENT:FALSE
SUMMARY:Introduction to LinkedIn
DESCRIPTION:Introduction to LinkedIn - Tuesday\, March 24th at 10:30am - Learn the basics of the social media site LinkedIn to grow your professional network with Laura Suelberg\, owner of Lakeway Tech Coach.
X-ALT-DESC;FMTTYPE=text/html:Introduction to LinkedIn - Tuesday\, March 24th at 10:30am - Learn the basics of the social media site LinkedIn to grow your professional network with Laura Suelberg\, owner of Lakeway Tech Coach.
LOCATION:Lake Travis Community Library 1938 Lohmans Crossing Austin\, Texas 78734
UID:e.2123.10088
SEQUENCE:3
DTSTAMP:20260423T030130Z
URL:https://laketravischamberfest.com/events/details/introduction-to-linkedin-10088
END:VEVENT

END:VCALENDAR
