BEGIN:VCALENDAR
VERSION:2.0
PRODID:-//ChamberMaster//Event Calendar 2.0//EN
METHOD:PUBLISH
X-PUBLISHED-TTL:P3D
REFRESH-INTERVAL:P3D
CALSCALE:GREGORIAN
BEGIN:VEVENT
DTSTART:20181127T163000Z
DTEND:20181127T173000Z
X-MICROSOFT-CDO-ALLDAYEVENT:FALSE
SUMMARY:Introduction to Facebook
DESCRIPTION:Introduction to Facebook - Tuesday\, November 27th at 10:30am - Learn how to connect with family\, friends\, and businesses on Facebook with Laura Suelberg\, owner of Lakeway Tech Coach.
X-ALT-DESC;FMTTYPE=text/html:Introduction to Facebook - Tuesday\, November 27th at 10:30am - Learn how to connect with family\, friends\, and businesses on Facebook with Laura Suelberg\, owner of Lakeway Tech Coach.
LOCATION:Lake Travis Community Library 1938 Lohmans Crossing Austin\, Texas 78734
UID:e.2123.9744
SEQUENCE:3
DTSTAMP:20260422T024146Z
URL:https://laketravischamberfest.com/events/details/introduction-to-facebook-9744
END:VEVENT

END:VCALENDAR
