BEGIN:VCALENDAR
VERSION:2.0
PRODID:-//ChamberMaster//Event Calendar 2.0//EN
METHOD:PUBLISH
X-PUBLISHED-TTL:P3D
REFRESH-INTERVAL:P3D
CALSCALE:GREGORIAN
BEGIN:VEVENT
DTSTART:20190226T163000Z
DTEND:20190226T173000Z
X-MICROSOFT-CDO-ALLDAYEVENT:FALSE
SUMMARY:Introduction to Facebook
DESCRIPTION:This beginner-level course will provide an introduction to the social media site. Learn how to connect with family\, friends\, and businesses on Facebook with Laura Suelberg\, owner of Lakeway Tech Coach.
X-ALT-DESC;FMTTYPE=text/html:This beginner-level course will provide an introduction to the social media site. Learn how to connect with family\, friends\, and businesses on Facebook with Laura Suelberg\, owner of Lakeway Tech Coach.
LOCATION:Lake Travis Community Library 1938 Lohmans Crossing Austin\, Texas 78734
UID:e.2123.9816
SEQUENCE:3
DTSTAMP:20260422T072115Z
URL:https://laketravischamberfest.com/events/details/introduction-to-facebook-02-26-2019-9816
END:VEVENT

END:VCALENDAR
