BEGIN:VCALENDAR
VERSION:2.0
PRODID:-//ChamberMaster//Event Calendar 2.0//EN
METHOD:PUBLISH
X-PUBLISHED-TTL:P3D
REFRESH-INTERVAL:P3D
CALSCALE:GREGORIAN
BEGIN:VEVENT
DTSTART:20190312T153000Z
DTEND:20190312T163000Z
X-MICROSOFT-CDO-ALLDAYEVENT:FALSE
SUMMARY:Intro to Power Yoga
DESCRIPTION:Intro to Power Yoga - Tuesday\, March 12th at 10:30am - This class will be led by experienced yoga teacher and Integrative Nutrition Health Coach Melinda Kirchoff.
X-ALT-DESC;FMTTYPE=text/html:Intro to Power Yoga - Tuesday\, March 12th at 10:30am - This class will be led by experienced yoga teacher and Integrative Nutrition Health Coach Melinda Kirchoff.
LOCATION:Lake Travis Community Library 1938 Lohnmans Crossing Austin\, Texas 78734
UID:e.2123.9840
SEQUENCE:3
DTSTAMP:20260422T104201Z
URL:https://laketravischamberfest.com/events/details/intro-to-power-yoga-9840
END:VEVENT

END:VCALENDAR
