BEGIN:VCALENDAR
VERSION:2.0
PRODID:-//ChamberMaster//Event Calendar 2.0//EN
METHOD:PUBLISH
X-PUBLISHED-TTL:P3D
REFRESH-INTERVAL:P3D
CALSCALE:GREGORIAN
BEGIN:VEVENT
DTSTART:20210504T170000Z
DTEND:20210504T180000Z
X-MICROSOFT-CDO-ALLDAYEVENT:FALSE
SUMMARY:INTERMEDIATE YOGA FLOW BY DAYNA CLASS
DESCRIPTION:Enjoy a one-hour high energy yoga class with emphasis on strong core and deep flexibility.  Let Dayna's Yoga Therapy Certification help you reach your goals faster.  Get stronger\, more flexible\, and more balanced in mind and body. Here's how it works:  Choose virtual or In-studio class. \n\n\n\nIn-studio\, you will be in the living area of my beautiful home studio with plenty of safe and clean space to practice. \n\nVirtually\, you simply click on the Mindbody link that will be emailed to you once you register.  These classes are high energy with plenty of core strengthening as well as deep stretch. \n\n\n\nTo purchase classes\, click on this link:  https://clients.mindbodyonline.com/classic/ws?studioid=837054&stype=41&sTG=25\n\n\n\nThe schedule can be found here:  https://clients.mindbodyonline.com/classic/ws?studioid=837054&stype=-7&sView=week&sLoc=0
X-ALT-DESC;FMTTYPE=text/html:<span style="color:rgb(0\, 0\, 0)\; font-family:verdana\,arial\,helvetica\,sans-serif\; font-size:14px">Enjoy a one-hour high energy yoga class with emphasis on strong core and deep flexibility.&nbsp\; Let Dayna&#39\;s Yoga Therapy Certification help you reach your goals faster.&nbsp\; Get stronger\, more flexible\, and more balanced in mind and body. Here&#39\;s how it works:&nbsp\; Choose virtual or In-studio class.&nbsp\;<br />\n<br />\n<strong>In-studio</strong>\, you will be in the living area of my beautiful home studio with plenty of safe and clean space to practice.&nbsp\;<br />\n<strong>Virtually</strong>\, you simply click on the Mindbody link that will be emailed to you once you register.&nbsp\; These classes are high energy with plenty of core strengthening as well as deep stretch.&nbsp\;<br />\n<br />\n<span style="font-family:tahoma">To purchase classes\, click on this link:&nbsp\;&nbsp\;</span></span><span style="font-family:tahoma"><strong><span style="color:#800080"><span style="background-color:rgb(245\, 245\, 245)">https://clients.mindbodyonline.com/classic/ws?studioid=837054&amp\;stype=41&amp\;sTG=25</span></span></strong><br />\n<br />\n<span style="color:rgb(0\, 0\, 0)\; font-size:14px">The schedule can be found here:&nbsp\;&nbsp\;</span></span><span style="background-color:rgb(245\, 245\, 245)\; font-family:helvetica neue\,helvetica\,lucida grande\,lucida sans unicode\,lucida sans\,arial\,sans-serif"><span style="font-family:tahoma"><strong><span style="color:#800080">https://clients.mindbodyonline.com/classic/ws?studioid=837054&amp\;stype=-7&amp\;sView=week&amp\;sLoc=0</span></strong></span></span><br />\n<br />\n&nbsp\;
LOCATION:Yoga by Dayna is centrally located between Lakeway and Steiner Ranch. We are just south of the damn\, off Hudson Bend Road. The address is 17022 Trail of the Woods. Park in wide\, circular driveway. Come on in! Please pre-register.
UID:e.2123.10369
SEQUENCE:3
DTSTAMP:20260423T235830Z
URL:https://laketravischamberfest.com/events/details/intermediate-yoga-flow-by-dayna-class-10369
END:VEVENT

END:VCALENDAR
