BEGIN:VCALENDAR
VERSION:2.0
PRODID:-//ChamberMaster//Event Calendar 2.0//EN
METHOD:PUBLISH
X-PUBLISHED-TTL:P3D
REFRESH-INTERVAL:P3D
CALSCALE:GREGORIAN
BEGIN:VEVENT
DTSTART:20180927T180000Z
DTEND:20180927T190000Z
X-MICROSOFT-CDO-ALLDAYEVENT:FALSE
SUMMARY:Identity Theft Protection
DESCRIPTION:Identity Theft Protection - Thursday\, September 27th at 1pm - 15 million Americans are victimized by identity theft each year. Join Sgt. Brown of the Lakeway Police Department to learn how to keep your information safe.
X-ALT-DESC;FMTTYPE=text/html:Identity Theft Protection - Thursday\, September 27th at 1pm - 15 million Americans are victimized by identity theft each year. Join Sgt. Brown of the Lakeway Police Department to learn how to keep your information safe.
LOCATION:Lake Travis Community Library 1938 Lohmans Crossing Austin\, Texas 78734
UID:e.2123.9700
SEQUENCE:3
DTSTAMP:20260421T232950Z
URL:https://laketravischamberfest.com/events/details/identity-theft-protection-9700
END:VEVENT

END:VCALENDAR
