BEGIN:VCALENDAR
VERSION:2.0
PRODID:-//ChamberMaster//Event Calendar 2.0//EN
METHOD:PUBLISH
X-PUBLISHED-TTL:P3D
REFRESH-INTERVAL:P3D
CALSCALE:GREGORIAN
BEGIN:VEVENT
DTSTART:20180205T200000Z
DTEND:20180205T210000Z
X-MICROSOFT-CDO-ALLDAYEVENT:FALSE
SUMMARY:How to Publish Your Own Novel
DESCRIPTION:How to Publish Your Own Novel - Monday\, February 5th at 2pm - Published author and editor Pat Dunlap Evans will provide an overview of self-publishing.
X-ALT-DESC;FMTTYPE=text/html:How to Publish Your Own Novel - Monday\, February 5th at 2pm - Published author and editor Pat Dunlap Evans will provide an overview of self-publishing.
LOCATION:Lake Travis Community Library 1938 Lohmans Crossing Austin\, Texas 78734
UID:e.2123.9546
SEQUENCE:3
DTSTAMP:20260421T132242Z
URL:https://laketravischamberfest.com/events/details/how-to-publish-your-own-novel-9546
END:VEVENT

END:VCALENDAR
