BEGIN:VCALENDAR
VERSION:2.0
PRODID:-//ChamberMaster//Event Calendar 2.0//EN
METHOD:PUBLISH
X-PUBLISHED-TTL:P3D
REFRESH-INTERVAL:P3D
CALSCALE:GREGORIAN
BEGIN:VEVENT
DTSTART:20190610T153000Z
DTEND:20190610T170000Z
X-MICROSOFT-CDO-ALLDAYEVENT:FALSE
SUMMARY:Housing Options As We Age
DESCRIPTION:Housing Options As We Age - Monday\, June 10th at 10:30am - During this 90-minute panel\, learn about local 55+ living options from some of the most knowledgeable and experienced professionals in the industry. Hosted by Lake Travis Senior Services.
X-ALT-DESC;FMTTYPE=text/html:Housing Options As We Age - Monday\, June 10th at 10:30am - During this 90-minute panel\, learn about local 55+ living options from some of the most knowledgeable and experienced professionals in the industry. Hosted by Lake Travis Senior Services.
LOCATION:Lake Travis Community Library 1938 Lohmans Crossing Austin\, Texas 78734
UID:e.2123.9913
SEQUENCE:3
DTSTAMP:20260422T134710Z
URL:https://laketravischamberfest.com/events/details/housing-options-as-we-age-9913
END:VEVENT

END:VCALENDAR
