BEGIN:VCALENDAR
VERSION:2.0
PRODID:-//ChamberMaster//Event Calendar 2.0//EN
METHOD:PUBLISH
X-PUBLISHED-TTL:P3D
REFRESH-INTERVAL:P3D
CALSCALE:GREGORIAN
BEGIN:VEVENT
DTSTART:20180407T000000Z
DTEND:20180407T023000Z
X-MICROSOFT-CDO-ALLDAYEVENT:FALSE
SUMMARY:Hot Texas Swing Band
DESCRIPTION:The Hot Texas Swing Band channels Asleep at the Wheel but gives the timeless tunes their own original spin. The band will be playing tight but hanging loose and having just as much fun as the dancers who'll be crowding the floor. Time to put on those beloved boots and jeans for some boot-scootin'.
X-ALT-DESC;FMTTYPE=text/html:The Hot Texas Swing Band channels Asleep at the Wheel but gives the timeless tunes their own original spin. The band will be playing tight but hanging loose and having just as much fun as the dancers who&#39\;ll be crowding the floor. Time to put on those beloved boots and jeans for some boot-scootin&#39\;.
LOCATION:Spicewood Vineyards Event Center 1419 Co. Rd. 409\, Spicewood\, TX
UID:e.2123.9617
SEQUENCE:3
DTSTAMP:20260421T175707Z
URL:https://laketravischamberfest.com/events/details/hot-texas-swing-band-9617
END:VEVENT

END:VCALENDAR
