BEGIN:VCALENDAR
VERSION:2.0
PRODID:-//ChamberMaster//Event Calendar 2.0//EN
METHOD:PUBLISH
X-PUBLISHED-TTL:P3D
REFRESH-INTERVAL:P3D
CALSCALE:GREGORIAN
BEGIN:VEVENT
DTSTART:20190108T200000Z
DTEND:20190108T210000Z
X-MICROSOFT-CDO-ALLDAYEVENT:FALSE
SUMMARY:Homeschool Program: Mad Science
DESCRIPTION:Mad Science will bring unique\, hands-on science education directly to you! Come to this interactive program tailored to homeschoolers ages 5 to 10\, but open to all.
X-ALT-DESC;FMTTYPE=text/html:Mad Science will bring unique\, hands-on science education directly to you! Come to this interactive program tailored to homeschoolers ages 5 to 10\, but open to all.
LOCATION:Lake Travis Community Library 1938 Lohmans Crossing Austin\, Texas 78734
UID:e.2123.9802
SEQUENCE:3
DTSTAMP:20260422T054825Z
URL:https://laketravischamberfest.com/events/details/homeschool-program-mad-science-9802
END:VEVENT

END:VCALENDAR
