BEGIN:VCALENDAR
VERSION:2.0
PRODID:-//ChamberMaster//Event Calendar 2.0//EN
METHOD:PUBLISH
X-PUBLISHED-TTL:P3D
REFRESH-INTERVAL:P3D
CALSCALE:GREGORIAN
BEGIN:VEVENT
DTSTART:20190213T170000Z
DTEND:20190213T180000Z
X-MICROSOFT-CDO-ALLDAYEVENT:FALSE
SUMMARY:Homeschool Day - Be an Engineer
DESCRIPTION:Join the Science Mill for its monthly Homeschool Day and focus on careers in engineering. In special hands-on activities\, students can use the Strawbees system to engineer their own creations\, make a mountain rescue litter\, and create a pom pom launcher with materials from a mystery bag. Plus\, students can attend optional age-based Learning Labs and explore the museum's 50+ unique exhibits and 3D movie.
X-ALT-DESC;FMTTYPE=text/html:Join the Science Mill for its monthly Homeschool Day and focus on careers in engineering. In special hands-on activities\, students can use the Strawbees system to engineer their own creations\, make a mountain rescue litter\, and create a pom pom launcher with materials from a mystery bag. Plus\, students can attend optional age-based Learning Labs and explore the museum&rsquo\;s 50+ unique exhibits and 3D movie.
LOCATION:Science Mill 101 S. Lady Bird Lane Johnson City\, TX 78736
UID:e.2123.9826
SEQUENCE:3
DTSTAMP:20260422T071953Z
URL:https://laketravischamberfest.com/events/details/homeschool-day-be-an-engineer-9826
END:VEVENT

END:VCALENDAR
