BEGIN:VCALENDAR
VERSION:2.0
PRODID:-//ChamberMaster//Event Calendar 2.0//EN
METHOD:PUBLISH
X-PUBLISHED-TTL:P3D
REFRESH-INTERVAL:P3D
CALSCALE:GREGORIAN
BEGIN:VEVENT
DTSTART:20180913T150000Z
DTEND:20180913T210000Z
X-MICROSOFT-CDO-ALLDAYEVENT:FALSE
SUMMARY:Homeschool Day - Be a Chemist
DESCRIPTION:
X-ALT-DESC;FMTTYPE=text/html:
LOCATION:Science Mill 101 S. Lady Bird Lane Johnson City\, TX 78636
UID:e.2123.9711
SEQUENCE:3
DTSTAMP:20260421T233539Z
URL:https://laketravischamberfest.com/events/details/homeschool-day-be-a-chemist-9711
END:VEVENT

END:VCALENDAR
