BEGIN:VCALENDAR
VERSION:2.0
PRODID:-//ChamberMaster//Event Calendar 2.0//EN
METHOD:PUBLISH
X-PUBLISHED-TTL:P3D
REFRESH-INTERVAL:P3D
CALSCALE:GREGORIAN
BEGIN:VEVENT
DTSTART:20200212T160000Z
DTEND:20200212T200000Z
X-MICROSOFT-CDO-ALLDAYEVENT:FALSE
SUMMARY:Homeschool Day at the Science Mill-Engineering
DESCRIPTION:Feb 12\, 2020 Homeschool Day at the Science Mill- Engineering The Science Mill?s monthly Homeschool Day focuses on careers in engineering: use your engineering skills to take wild ideas from design to reality: A roller coaster for marbles! A maze for robots! Catapults that play catch! Challenge yourself to build crazy contraptions from unusual materials\, including a sky-high tower from bamboo skewers. Register in advance for immersive Learning Labs. Plus\, students can explore the museum?s 50+ unique exhibits and see ?Incredible Predators 3D?. Homeschool activities will run 10am-2pm\, the museum will be open 10am-4pm. Contact: info@sciencemill.org Location: Science Mill\, 101 S. Lady Bird Lane\, Johnson City\, Texas 78636 Activity Hours: 10am - 2:00pm Museum Hours: 10am - 4pm Event Website: https://www.sciencemill.org/upcoming-events-1/ Facebook Event: https://www.facebook.com/events/495403874687443/
X-ALT-DESC;FMTTYPE=text/html:Feb 12\, 2020 Homeschool Day at the Science Mill- Engineering The Science Mill?s monthly Homeschool Day focuses on careers in engineering: use your engineering skills to take wild ideas from design to reality: A roller coaster for marbles! A maze for robots! Catapults that play catch! Challenge yourself to build crazy contraptions from unusual materials\, including a sky-high tower from bamboo skewers. Register in advance for immersive Learning Labs. Plus\, students can explore the museum?s 50+ unique exhibits and see ?Incredible Predators 3D?. Homeschool activities will run 10am-2pm\, the museum will be open 10am-4pm. Contact: info@sciencemill.org Location: Science Mill\, 101 S. Lady Bird Lane\, Johnson City\, Texas 78636 Activity Hours: 10am - 2:00pm Museum Hours: 10am - 4pm Event Website: https://www.sciencemill.org/upcoming-events-1/ Facebook Event: https://www.facebook.com/events/495403874687443/
LOCATION:Science Mill 101 S. Lady Bird Lane Johnson City\, TX 78636
UID:e.2123.10063
SEQUENCE:3
DTSTAMP:20260423T015910Z
URL:https://laketravischamberfest.com/events/details/homeschool-day-at-the-science-mill-engineering-10063
END:VEVENT

END:VCALENDAR
