BEGIN:VCALENDAR
VERSION:2.0
PRODID:-//ChamberMaster//Event Calendar 2.0//EN
METHOD:PUBLISH
X-PUBLISHED-TTL:P3D
REFRESH-INTERVAL:P3D
CALSCALE:GREGORIAN
BEGIN:VEVENT
DTSTART:20181227T160000Z
DTEND:20181228T220000Z
X-MICROSOFT-CDO-ALLDAYEVENT:FALSE
SUMMARY:Holiday Mini Camps
DESCRIPTION:The Science Mill is offering day camps on Thursday and Friday\, Dec. 27-28 for students in grades 3-5. Kids can come to both days or just one and will be programming mBots\, taking care of MicroPets\, and making their very own robots! Campers will get to develop a robot produced out of recyclable materials\, and then put together a sales pitch for their creation. Contact: info@sciencemill.org Phone: (844) 263-6405 Location: Science Mill\, 101 S. Ladybird Lane Johnson City\, Texas 78636 Cost: $60 per day\, per student Hours: 10 am - 4 pm https://www.sciencemill.org/discoverydaycamps/
X-ALT-DESC;FMTTYPE=text/html:The Science Mill is offering day camps on Thursday and Friday\, Dec. 27-28 for students in grades 3-5. Kids can come to both days or just one and will be programming mBots\, taking care of MicroPets\, and making their very own robots! Campers will get to develop a robot produced out of recyclable materials\, and then put together a sales pitch for their creation. Contact: info@sciencemill.org Phone: (844) 263-6405 Location: Science Mill\, 101 S. Ladybird Lane Johnson City\, Texas 78636 Cost: $60 per day\, per student Hours: 10 am - 4 pm https://www.sciencemill.org/discoverydaycamps/
LOCATION:Science Mill 101 S. Lady Bird Lane Johnson City\, Tx 78636
UID:e.2123.9798
SEQUENCE:3
DTSTAMP:20260422T042742Z
URL:https://laketravischamberfest.com/events/details/holiday-mini-camps-9798
END:VEVENT

END:VCALENDAR
