BEGIN:VCALENDAR
VERSION:2.0
PRODID:-//ChamberMaster//Event Calendar 2.0//EN
METHOD:PUBLISH
X-PUBLISHED-TTL:P3D
REFRESH-INTERVAL:P3D
CALSCALE:GREGORIAN
BEGIN:VEVENT
DTSTART:20171213T003000Z
DTEND:20171213T013000Z
X-MICROSOFT-CDO-ALLDAYEVENT:FALSE
SUMMARY:Holiday Celebration
DESCRIPTION:Holiday Celebration - Tuesday\, December 12th at 6:30pm - Join us for one of our most anticipated programs of the year! We will make crafts\, sing carols\, and enjoy refreshments. Plus\, you won't want to miss the very special guests!
X-ALT-DESC;FMTTYPE=text/html:Holiday Celebration - Tuesday\, December 12th at 6:30pm - Join us for one of our most anticipated programs of the year! We will make crafts\, sing carols\, and enjoy refreshments. Plus\, you won&rsquo\;t want to miss the very special guests!
LOCATION:Lake Travis Community Library 1938 Lohmans Crossing Austin\, Texas 78734
UID:e.2123.9513
SEQUENCE:3
DTSTAMP:20260421T095637Z
URL:https://laketravischamberfest.com/events/details/holiday-celebration-9513
END:VEVENT

END:VCALENDAR
