BEGIN:VCALENDAR
VERSION:2.0
PRODID:-//ChamberMaster//Event Calendar 2.0//EN
METHOD:PUBLISH
X-PUBLISHED-TTL:P3D
REFRESH-INTERVAL:P3D
CALSCALE:GREGORIAN
BEGIN:VEVENT
DTSTART:20190129T160000Z
DTEND:20190129T190000Z
X-MICROSOFT-CDO-ALLDAYEVENT:FALSE
SUMMARY:Heartsaver CPR and First Aid
DESCRIPTION:Learn how to perform CPR and administer basic first aid during this three hour course taught by VIK Complete Care. To register for this course\, please email aconnell@complete.care.
X-ALT-DESC;FMTTYPE=text/html:Learn how to perform CPR and administer basic first aid during this three hour course taught by VIK Complete Care. To register for this course\, please email aconnell@complete.care.
LOCATION:Lake Travis Community Library 1938 Lohmans Crossing Austin\, Texas 78734
UID:e.2123.9803
SEQUENCE:3
DTSTAMP:20260422T060111Z
URL:https://laketravischamberfest.com/events/details/heartsaver-cpr-and-first-aid-9803
END:VEVENT

END:VCALENDAR
