BEGIN:VCALENDAR
VERSION:2.0
PRODID:-//ChamberMaster//Event Calendar 2.0//EN
METHOD:PUBLISH
X-PUBLISHED-TTL:P3D
REFRESH-INTERVAL:P3D
CALSCALE:GREGORIAN
BEGIN:VEVENT
DTSTART;VALUE=DATE:20201001
DTEND;VALUE=DATE:20201002
TRANSP:TRANSPARENT
X-MICROSOFT-CDO-ALLDAYEVENT:TRUE
SUMMARY:HeartGift Golf Classic
DESCRIPTION:Join HeartGift in saving the lives of children from around the world born with congenital heart defects. The HeartGIft Golf Classic is an opportunity to help some of the world's most vulnerable children while enjoying a great day of fun in the sun\, hanging out with friends (physically distant of course)\, and a beautiful golf course! We've got lots of fun planned - grab your morning or afternoon tee time today!
X-ALT-DESC;FMTTYPE=text/html:Join HeartGift in saving the lives of children from around the world born with congenital heart defects. The HeartGIft Golf Classic is an opportunity to help some of the world&#39\;s most vulnerable children while enjoying a great day of fun in the sun\, hanging out with friends (physically distant of course)\, and a beautiful golf course! We&#39\;ve got lots of fun planned - grab your morning or afternoon tee time today!
LOCATION:Grey Rock Golf Club 7401 TX-45 Austin\, TX 78739
UID:e.2123.10157
SEQUENCE:3
DTSTAMP:20260423T134108Z
URL:https://laketravischamberfest.com/events/details/heartgift-golf-classic-10157
END:VEVENT

END:VCALENDAR
