BEGIN:VCALENDAR
VERSION:2.0
PRODID:-//ChamberMaster//Event Calendar 2.0//EN
METHOD:PUBLISH
X-PUBLISHED-TTL:P3D
REFRESH-INTERVAL:P3D
CALSCALE:GREGORIAN
BEGIN:VEVENT
DTSTART:20190516T153000Z
DTEND:20190516T163000Z
X-MICROSOFT-CDO-ALLDAYEVENT:FALSE
SUMMARY:Health Talk: Summer Skin
DESCRIPTION:Health Talk: Summer Skin - Thursday\, May 16th at 10:30am - Stanford and Harvard-trained Dr. Lia Gracey of Baylor Scott and White - Lakeway will discuss common skin issues and simple ways to treat them.
X-ALT-DESC;FMTTYPE=text/html:Health Talk: Summer Skin - Thursday\, May 16th at 10:30am - Stanford and Harvard-trained Dr. Lia Gracey of Baylor Scott and White - Lakeway will discuss common skin issues and simple ways to treat them.
LOCATION:Lake Travis Community Library 1938 Lohmans Crossing Austin\, Texas 78734
UID:e.2123.9890
SEQUENCE:3
DTSTAMP:20260422T121807Z
URL:https://laketravischamberfest.com/events/details/health-talk-summer-skin-9890
END:VEVENT

END:VCALENDAR
