BEGIN:VCALENDAR
VERSION:2.0
PRODID:-//ChamberMaster//Event Calendar 2.0//EN
METHOD:PUBLISH
X-PUBLISHED-TTL:P3D
REFRESH-INTERVAL:P3D
CALSCALE:GREGORIAN
BEGIN:VEVENT
DTSTART:20180221T000000Z
DTEND:20180221T010000Z
X-MICROSOFT-CDO-ALLDAYEVENT:FALSE
SUMMARY:Health Inspires
DESCRIPTION:Health Inspires: Reset\, Reengage\, Go! - Tuesday\, February 20th at 6pm - Local health and wellness coach Kathryn Scoblick shares how to create and live the healthy and purposeful life that you have imagined.
X-ALT-DESC;FMTTYPE=text/html:Health Inspires: Reset\, Reengage\, Go! - Tuesday\, February 20th at 6pm - Local health and wellness coach Kathryn Scoblick shares how to create and live the healthy and purposeful life that you have imagined.
LOCATION:Lake Travis Community Library 1938 Lohmans Crossing Austin\, Texas 78734
UID:e.2123.9544
SEQUENCE:3
DTSTAMP:20260421T143901Z
URL:https://laketravischamberfest.com/events/details/health-inspires-9544
END:VEVENT

END:VCALENDAR
