BEGIN:VCALENDAR
VERSION:2.0
PRODID:-//ChamberMaster//Event Calendar 2.0//EN
METHOD:PUBLISH
X-PUBLISHED-TTL:P3D
REFRESH-INTERVAL:P3D
CALSCALE:GREGORIAN
BEGIN:VEVENT
DTSTART:20200122T170000Z
DTEND:20200122T190000Z
X-MICROSOFT-CDO-ALLDAYEVENT:FALSE
SUMMARY:Healing Ayurvedic Cooking
DESCRIPTION:Chef Rachel Zierzow\, natural foods chef and holistic health coach\, will introduce you to delicious Ayurvedic Cooking!  Start the New Year off right with  Ayurvedic Kitchari with golden lentils\, basmati rice\, seasonal vegetables\, ginger\, and turmeric. Ayurvedic Kitchari is a delicious and healing dish prized for its ability to detox the body while balancing the body's systems. Kitchari helps boost the immune system and is a complete meal that can be eaten any time of day. Learn different variations you can make throughout the winter to keep you healthy and nourished.
X-ALT-DESC;FMTTYPE=text/html:Chef Rachel Zierzow\, natural foods chef and holistic health coach\, will introduce you to delicious Ayurvedic Cooking!&nbsp\;&nbsp\;Start the New Year off right with&nbsp\;&nbsp\;Ayurvedic Kitchari with golden lentils\, basmati rice\, seasonal vegetables\, ginger\, and turmeric. Ayurvedic Kitchari is a delicious and healing dish prized for its ability to detox the body while balancing the body&rsquo\;s systems. Kitchari helps boost the immune system and is a complete meal that can be eaten any time of day. Learn different variations you can make throughout the winter to keep you healthy and nourished.
LOCATION:3500 Ranch Road 620 S\, Ste F-400 Bee Cave\, Texas 78738
UID:e.2123.10050
SEQUENCE:3
DTSTAMP:20260423T003226Z
URL:https://laketravischamberfest.com/events/details/healing-ayurvedic-cooking-10050
END:VEVENT

END:VCALENDAR
