BEGIN:VCALENDAR
VERSION:2.0
PRODID:-//ChamberMaster//Event Calendar 2.0//EN
METHOD:PUBLISH
X-PUBLISHED-TTL:P3D
REFRESH-INTERVAL:P3D
CALSCALE:GREGORIAN
BEGIN:VEVENT
DTSTART:20230602T180000Z
DTEND:20230602T220000Z
X-MICROSOFT-CDO-ALLDAYEVENT:FALSE
SUMMARY:Headshot Happy Hour and Networking Event for Chamber Members
DESCRIPTION:HEADSHOT HAPPY HOUR\n\n\n\nChamber members! We are offering a special headshot happy hour and networking event at our studio at the Hill Country Galleria. Come and get your headshot done and network with other members.\n\n\n\nYou can come early and stay after your session to network.\n \n\n\nSpecial pricing for Chamber members only. HALF OFF SESSION FEE (NORMALLY $190) AND HALF OFF DIGITAL FILE (NORMALLY $195 PER DIGITAL FILE)\n\nIncludes:\n\n\n	Studio session on gray background\n	Refreshments\n	Special Pricing HALF OFF SESSION FEE: $95\n	Digital files are extra and are half off regular price ($98 per digital file)\n\n\n\n\nBOOK YOUR SPOT: https://www.kimortiz.com/form/2023-chamber-headshot-happy-hour
X-ALT-DESC;FMTTYPE=text/html:<h3 class="text-image-block__title" style="box-sizing: inherit\; -webkit-font-smoothing: antialiased\; margin: 0px\; color: var(--c-text-image-title\,var(--c-global-accent1))\; font-family: &quot\;Avalon Book&quot\;\; font-size: calc(30px * var(--ff-global-title-multiplier))\;">HEADSHOT HAPPY HOUR<br />\n<br />\n<span style="font-family:arial\;">Chamber members! We are offering a special headshot happy hour and networking event at our studio at the Hill Country Galleria. Come and get your headshot done and network with other members.</span><br />\n<br />\n<span style="color: rgb(85\, 85\, 85)\; font-size: 16px\;">You can come early and stay after your session to network.</span></h3>\n&nbsp\;\n\n<div class="text-image-block__description\n						rich-text" style="box-sizing: inherit\; -webkit-font-smoothing: antialiased\; color: rgb(77\, 77\, 77)\; font-family: &quot\;Avalon Book&quot\;\; font-size: 15.66px\; margin-top: 20px\;">\n<p style="box-sizing: inherit\; -webkit-font-smoothing: antialiased\;">Special pricing for Chamber members only. HALF OFF SESSION FEE (NORMALLY $190) AND HALF OFF DIGITAL FILE (NORMALLY $195 PER DIGITAL FILE)</p>\n\n<p style="box-sizing: inherit\; -webkit-font-smoothing: antialiased\;">Includes:</p>\n\n<ul style="box-sizing: inherit\; -webkit-font-smoothing: antialiased\; list-style-position: inside\; margin-bottom: 0px\;">\n	<li style="box-sizing: inherit\; -webkit-font-smoothing: antialiased\;">Studio session on gray background</li>\n	<li style="box-sizing: inherit\; -webkit-font-smoothing: antialiased\;">Refreshments</li>\n	<li style="box-sizing: inherit\; -webkit-font-smoothing: antialiased\;">Special Pricing HALF OFF SESSION FEE: $95</li>\n	<li style="box-sizing: inherit\; -webkit-font-smoothing: antialiased\;">Digital files are extra and are half off regular price ($98 per digital file)</li>\n</ul>\n\n<div style="box-sizing: inherit\; -webkit-font-smoothing: antialiased\;"><br />\nBOOK YOUR SPOT:&nbsp\;https://www.kimortiz.com/form/2023-chamber-headshot-happy-hour</div>\n</div>\n
LOCATION:Kim Ortiz Portrait Art Hill Country Galleria Studio NEW LOCATION: Next to Yoga-Goga 12700 Hill Country Blvd. S-120 Bee Cave\, TX 78734
UID:e.2123.11754
SEQUENCE:3
DTSTAMP:20260423T053642Z
URL:https://laketravischamberfest.com/events/details/headshot-happy-hour-and-networking-event-for-chamber-members-11754
END:VEVENT

END:VCALENDAR
