BEGIN:VCALENDAR
VERSION:2.0
PRODID:-//ChamberMaster//Event Calendar 2.0//EN
METHOD:PUBLISH
X-PUBLISHED-TTL:P3D
REFRESH-INTERVAL:P3D
CALSCALE:GREGORIAN
BEGIN:VEVENT
DTSTART:20180305T163000Z
DTEND:20180305T173000Z
X-MICROSOFT-CDO-ALLDAYEVENT:FALSE
SUMMARY:Handwashing Story Time
DESCRIPTION:Handwashing Story Time - Monday\, March 5th at 10:30am - Join health care professionals from Baylor Scott & White Health for a free interactive handwashing demonstration and story time.
X-ALT-DESC;FMTTYPE=text/html:Handwashing Story Time - Monday\, March 5th at 10:30am - Join health care professionals from Baylor Scott &amp\; White Health for a free interactive handwashing demonstration and story time.
LOCATION:1938 Lohmans Crossing Austin\, Texas 78734
UID:e.2123.9571
SEQUENCE:3
DTSTAMP:20260421T144658Z
URL:https://laketravischamberfest.com/events/details/handwashing-story-time-03-05-2018-9571
END:VEVENT

END:VCALENDAR
