BEGIN:VCALENDAR
VERSION:2.0
PRODID:-//ChamberMaster//Event Calendar 2.0//EN
METHOD:PUBLISH
X-PUBLISHED-TTL:P3D
REFRESH-INTERVAL:P3D
CALSCALE:GREGORIAN
BEGIN:VEVENT
DTSTART:20181203T163000Z
DTEND:20181203T173000Z
X-MICROSOFT-CDO-ALLDAYEVENT:FALSE
SUMMARY:Handwashing Preschool Story Time
DESCRIPTION:Handwashing Preschool Story Time - Monday\, December 3rd at 10:30am - Join health care professionals from Baylor Scott & White Medical Center for an interactive handwashing demonstration and story time.
X-ALT-DESC;FMTTYPE=text/html:Handwashing Preschool Story Time - Monday\, December 3rd at 10:30am - Join health care professionals from Baylor Scott &amp\; White Medical Center for an interactive handwashing demonstration and story time.
LOCATION:1938 Lohmans Crossing Austin\, Texas 78734
UID:e.2123.9777
SEQUENCE:3
DTSTAMP:20260422T043056Z
URL:https://laketravischamberfest.com/events/details/handwashing-preschool-story-time-9777
END:VEVENT

END:VCALENDAR
