BEGIN:VCALENDAR
VERSION:2.0
PRODID:-//ChamberMaster//Event Calendar 2.0//EN
METHOD:PUBLISH
X-PUBLISHED-TTL:P3D
REFRESH-INTERVAL:P3D
CALSCALE:GREGORIAN
BEGIN:VEVENT
DTSTART:20200220T003000Z
DTEND:20200220T023000Z
X-MICROSOFT-CDO-ALLDAYEVENT:FALSE
SUMMARY:Hands on Gnocchi Making Class
DESCRIPTION:Join Chef Carlos Crusco in this hands-on Gnocchi making class!  Potato Gnocchi Dough         Russet Potatoes\, Eggs\, Flour   basic dough (Some Demo & most dough done ahead of time for guests to work with) Forming & Cooking Gnocchi Using hands\, guests will roll out dough into long ropes and cut into pieces. Using dowels and forks\, guests will form each piece into gnocchi and then cook.   Tomato Cream Sauce Caramelized Aromatics\, Tomato\, Herbs\, Stock\, Cream. Served with Gnocchi & Pecorino Romano.
X-ALT-DESC;FMTTYPE=text/html:Join Chef Carlos Crusco in this hands-on Gnocchi making class!&nbsp\; Potato Gnocchi Dough&nbsp\;&nbsp\;&nbsp\;&nbsp\;&nbsp\;&nbsp\;&nbsp\;&nbsp\; Russet Potatoes\, Eggs\, Flour &ndash\; basic dough (Some Demo &amp\; most dough done ahead of time for guests to work with) Forming &amp\; Cooking Gnocchi Using hands\, guests will roll out dough into long ropes and cut into pieces. Using dowels and forks\, guests will form each piece into gnocchi and then cook. &nbsp\; Tomato Cream Sauce Caramelized Aromatics\, Tomato\, Herbs\, Stock\, Cream. Served with Gnocchi &amp\; Pecorino Romano.
LOCATION:3500 Ranch Road 620 S\, Ste F-400 Bee Cave\, Texas 78738
UID:e.2123.10070
SEQUENCE:3
DTSTAMP:20260423T015028Z
URL:https://laketravischamberfest.com/events/details/hands-on-gnocchi-making-class-10070
END:VEVENT

END:VCALENDAR
