BEGIN:VCALENDAR
VERSION:2.0
PRODID:-//ChamberMaster//Event Calendar 2.0//EN
METHOD:PUBLISH
X-PUBLISHED-TTL:P3D
REFRESH-INTERVAL:P3D
CALSCALE:GREGORIAN
BEGIN:VEVENT
DTSTART:20250521T153000Z
DTEND:20250521T163000Z
X-MICROSOFT-CDO-ALLDAYEVENT:FALSE
SUMMARY:Ground Breaking Ceremony - Lake Travis Christian Academy
DESCRIPTION:Lake Travis Christian Academy is a faith-based Acton Academy where students learn at their own pace in a project-based\, learner-driven environment. Our unique educational approach empowers students to discover their God-given gifts\, develop strong character\, and find their calling that will change the world. We focus on helping children become confident\, kind\, and creative individuals who are prepared for bright futures.\n\n \n\nEvent Details:\n\n \n\nDate: Wednesday\, May 21\, 2025\n\nTime: 10:30 AM\n\nLocation: 5410 Reimers-Peacock\, Spicewood\, TX (about a 1/2 mile behind La Cabana through the cattle guard)\n\nLight refreshments will be served.\n\nwww.LTChristian.com\n\n \n\nThe new campus will feature four buildings with 18\,000 sf of classroom facilities plus a 9\,600 sf gym and administrative building. This expansion will allow us to better serve our growing community of learners and families.\n\nFor more information and to RSVP\, please visit our Facebook event page: \n\n \n\nhttps://www.facebook.com/share/1LZuY8BxsM/?mibextid=wwXIfr
X-ALT-DESC;FMTTYPE=text/html:<div>Lake Travis Christian Academy is a faith-based Acton Academy where students learn at their own pace in a project-based\, learner-driven environment. Our unique educational approach empowers students to discover their God-given gifts\, develop strong character\, and find their calling that will change the world. We focus on helping children become confident\, kind\, and creative individuals who are prepared for bright futures.</div>\n\n<div>&nbsp\;</div>\n\n<div>Event Details:</div>\n\n<div>&nbsp\;</div>\n\n<div>Date: Wednesday\, May 21\, 2025</div>\n\n<div>Time: 10:30 AM</div>\n\n<div>Location: 5410 Reimers-Peacock\, Spicewood\, TX (about a 1/2 mile behind La Cabana through the cattle guard)</div>\n\n<div>Light refreshments will be served.</div>\n\n<div><a href="http://www.ltchristian.com/" style="color: rgb(17\, 85\, 204)\;" target="_blank">www.LTChristian.com</a></div>\n\n<div>&nbsp\;</div>\n\n<div>The new campus will feature four buildings with 18\,000 sf of classroom facilities plus a 9\,600 sf gym and administrative building. This expansion will allow us to better serve our growing community of learners and families.</div>\n\n<div>For more information and to RSVP\, please visit our Facebook event page:&nbsp\;</div>\n\n<div>&nbsp\;</div>\n\n<div><a href="https://www.facebook.com/share/1LZuY8BxsM/?mibextid=wwXIfr" style="color: rgb(17\, 85\, 204)\; font-size: small\; font-family: Arial\, Helvetica\, sans-serif\;" target="_blank">https://www.facebook.com/share/1LZuY8BxsM/?mibextid=wwXIfr</a></div>\n
LOCATION:5410 Reimers-Peacock\, Spicewood\, TX (about a 1/2 mile behind La Cabana through the cattle guard)
UID:e.2123.12851
SEQUENCE:3
DTSTAMP:20260421T180052Z
URL:https://laketravischamberfest.com/events/details/ground-breaking-ceremony-lake-travis-christian-academy-12851
END:VEVENT

END:VCALENDAR
