BEGIN:VCALENDAR
VERSION:2.0
PRODID:-//ChamberMaster//Event Calendar 2.0//EN
METHOD:PUBLISH
X-PUBLISHED-TTL:P3D
REFRESH-INTERVAL:P3D
CALSCALE:GREGORIAN
BEGIN:VEVENT
DTSTART:20180904T233000Z
DTEND:20180905T010000Z
X-MICROSOFT-CDO-ALLDAYEVENT:FALSE
SUMMARY:Grief Share
DESCRIPTION:Grief Share meets every Tuesday evening from 6:30   8:00 pm in Room 203 of the Fellowship Center. You are invited to join them at any time\; there is no charge for this seminar. A new series of Grief Share will begin on September 4\, 2018. Contact Sonya Hursh at 512-565-5411 or shursh123@gmail.com for more information or just show up! Each session stands alone\, so you are welcome to attend them all\, or just a few. Grief Share is a 13-week video-based seminar and support group designed to help people grieving the loss of a loved one. Each video features interviews with leading experts and authors with years of experience in grief recovery\; each stands alone join them at any time. Following each video session\, the group breaks into small group discussion. The seminar features practical suggestions and reassurances through video interviews with counselors\, grief experts and other people who have experienced loss.
X-ALT-DESC;FMTTYPE=text/html:Grief Share meets every Tuesday evening from 6:30 &ndash\; 8:00 pm in Room 203 of the Fellowship Center. You are invited to join them at any time\; there is no charge for this seminar. A new series of Grief Share will begin on September 4\, 2018. Contact Sonya Hursh at 512-565-5411 or shursh123@gmail.com for more information&hellip\;or just show up! Each session stands alone\, so you are welcome to attend them all\, or just a few. Grief Share is a 13-week video-based seminar and support group designed to help people grieving the loss of a loved one. Each video features interviews with leading experts and authors with years of experience in grief recovery\; each stands alone&hellip\;join them at any time. Following each video session\, the group breaks into small group discussion. The seminar features practical suggestions and reassurances through video interviews with counselors\, grief experts and other people who have experienced loss.
LOCATION:The Lakeway Church 2203 Lakeway Blvd. Lakeway\, TX 78734
UID:e.2123.9691
SEQUENCE:3
DTSTAMP:20260421T233002Z
URL:https://laketravischamberfest.com/events/details/grief-share-9691
END:VEVENT

END:VCALENDAR
