BEGIN:VCALENDAR
VERSION:2.0
PRODID:-//ChamberMaster//Event Calendar 2.0//EN
METHOD:PUBLISH
X-PUBLISHED-TTL:P3D
REFRESH-INTERVAL:P3D
CALSCALE:GREGORIAN
BEGIN:VEVENT
DTSTART:20211011T140000Z
DTEND:20211011T220000Z
X-MICROSOFT-CDO-ALLDAYEVENT:FALSE
SUMMARY:Greatest Showman: School Holiday Camp!
DESCRIPTION:This is "The Greatest Show" at TexARTS! Join us for an awesome day of singing\, acting\, and dancing with our Best of The Greatest Showman musical theater camp. This is a one day school holiday camp on Monday\, October 11\, 2021 from 9:00am-5:00pm. Tuition is $80. TexARTS' musical theater summer camps are a fun foray into the world of theater! Our camps are led by professional teaching artists from throughout the Austin area and who coach students in acting\, singing\, and dance. Students ages 5-14 will learn songs\, scenes\, and dances to their favorite hits from the theme of the camp. For more information or to enroll visit www.tex-arts.org or call (512) 852-9079x104.
X-ALT-DESC;FMTTYPE=text/html:This is &ldquo\;The Greatest Show&rdquo\; at TexARTS! Join us for an awesome day of singing\, acting\, and dancing with our Best of The Greatest Showman musical theater camp. This is a one day school holiday camp on Monday\, October 11\, 2021 from 9:00am-5:00pm. Tuition is $80. TexARTS&#39\; musical theater summer camps are a fun foray into the world of theater! Our camps are led by professional teaching artists from throughout the Austin area and who coach students in acting\, singing\, and dance. Students ages 5-14 will learn songs\, scenes\, and dances to their favorite hits from the theme of the camp. For more information or to enroll visit www.tex-arts.org or call (512) 852-9079x104.
LOCATION:TexARTS Association 2300 Lohman's Spur STE 160 Austin\, TX 78734
UID:e.2123.10919
SEQUENCE:3
DTSTAMP:20260424T070111Z
URL:https://laketravischamberfest.com/events/details/greatest-showman-school-holiday-camp-10919
END:VEVENT

END:VCALENDAR
