BEGIN:VCALENDAR
VERSION:2.0
PRODID:-//ChamberMaster//Event Calendar 2.0//EN
METHOD:PUBLISH
X-PUBLISHED-TTL:P3D
REFRESH-INTERVAL:P3D
CALSCALE:GREGORIAN
BEGIN:VEVENT
DTSTART:20180714T000000Z
DTEND:20180730T000000Z
X-MICROSOFT-CDO-ALLDAYEVENT:FALSE
SUMMARY:Grease
DESCRIPTION:Come on down and see the TexArts professional production of Grease. Enjoy a fun night of drama\, singing\, and dancing with an awesome concessions bar to enjoy while you watch the show.
X-ALT-DESC;FMTTYPE=text/html:Come on down and see the TexArts professional production of Grease. Enjoy a fun night of drama\, singing\, and dancing with an awesome concessions bar to enjoy while you watch the show.
LOCATION:TexArts Lakeway TX 78734 2300 Lohmans Spur ste 160
UID:e.2123.9670
SEQUENCE:3
DTSTAMP:20260421T204745Z
URL:https://laketravischamberfest.com/events/details/grease-9670
END:VEVENT

END:VCALENDAR
