BEGIN:VCALENDAR
VERSION:2.0
PRODID:-//ChamberMaster//Event Calendar 2.0//EN
METHOD:PUBLISH
X-PUBLISHED-TTL:P3D
REFRESH-INTERVAL:P3D
CALSCALE:GREGORIAN
BEGIN:VEVENT
DTSTART:20180331T003000Z
DTEND:20180331T014500Z
X-MICROSOFT-CDO-ALLDAYEVENT:FALSE
SUMMARY:Good Friday Choral Service
DESCRIPTION:The combined choirs of the Lake Travis United Methodist Church and The Lakeway Church\, with orchestral accompaniment\, will present the moving choral work\, Come to the Cross and Remember\, by Pepper Choplin at the Lake Travis United Methodist Church\, 1502 RR620 North\, Lakeway.
X-ALT-DESC;FMTTYPE=text/html:The combined choirs of the Lake Travis United Methodist Church and The Lakeway Church\, with orchestral accompaniment\, will present the moving choral work\, Come to the Cross and Remember\, by Pepper Choplin at the Lake Travis United Methodist Church\, 1502 RR620 North\, Lakeway.
LOCATION:Lake Travis United Methodist Church 1502 RR620 North Lakeway\, TX 78734
UID:e.2123.9595
SEQUENCE:3
DTSTAMP:20260421T161731Z
URL:https://laketravischamberfest.com/events/details/good-friday-choral-service-9595
END:VEVENT

END:VCALENDAR
