BEGIN:VCALENDAR
VERSION:2.0
PRODID:-//ChamberMaster//Event Calendar 2.0//EN
METHOD:PUBLISH
X-PUBLISHED-TTL:P3D
REFRESH-INTERVAL:P3D
CALSCALE:GREGORIAN
BEGIN:VEVENT
DTSTART:20190318T153000Z
DTEND:20190318T163000Z
X-MICROSOFT-CDO-ALLDAYEVENT:FALSE
SUMMARY:Golf Injury Prevention
DESCRIPTION:Golf Injury Prevention - Monday\, March 18th at 10:30am - In this workshop you will learn an overview of common golf related injuries and tips to help avoid them. Led by Body Balance Physical Therapy of Lakeway.
X-ALT-DESC;FMTTYPE=text/html:Golf Injury Prevention - Monday\, March 18th at 10:30am - In this workshop you will learn an overview of common golf related injuries and tips to help avoid them. Led by Body Balance Physical Therapy of Lakeway.
LOCATION:Lake Travis Community Library 1938 Lohmans Crossing Austin\, Texas 78734
UID:e.2123.9839
SEQUENCE:3
DTSTAMP:20260422T091325Z
URL:https://laketravischamberfest.com/events/details/golf-injury-prevention-9839
END:VEVENT

END:VCALENDAR
