BEGIN:VCALENDAR
VERSION:2.0
PRODID:-//ChamberMaster//Event Calendar 2.0//EN
METHOD:PUBLISH
X-PUBLISHED-TTL:P3D
REFRESH-INTERVAL:P3D
CALSCALE:GREGORIAN
BEGIN:VEVENT
DTSTART:20180210T230000Z
DTEND:20180211T010000Z
X-MICROSOFT-CDO-ALLDAYEVENT:FALSE
SUMMARY:Gallery Exhibition Artist Reception: “Off the Wall: Contemporary Prints”
DESCRIPTION:Join the Southwestern University Sarofim School of Fine Arts' Studio Art Department for the Off the Wall: Contemporary Prints Artists Gallery Reception in conjunction with PrintAustin. Off the Wall: Contemporary Prints explores the intersections of sculptural and pictorial spaces in prints through three-dimensional works on paper by Stacy Elko (Texas\, USA)\, Andrew Folan (Dublin\, Ireland)\, Nicole Pietrantoni (Washington\, USA)\, Samantha Parker Salazar (Illinois\, USA)\, and Sang-Mi Yoo (Texas\, USA). The Sarofim Fine Arts Gallery is open 12 - 5pm Tuesday - Sunday\, closed Mondays and holidays. The reception will be on February 10th. The gallery will be open through March 8th.
X-ALT-DESC;FMTTYPE=text/html:Join the Southwestern University Sarofim School of Fine Arts&#39\; Studio Art Department for the Off the Wall: Contemporary Prints Artists Gallery Reception in conjunction with PrintAustin. Off the Wall: Contemporary Prints explores the intersections of sculptural and pictorial spaces in prints through three-dimensional works on paper by Stacy Elko (Texas\, USA)\, Andrew Folan (Dublin\, Ireland)\, Nicole Pietrantoni (Washington\, USA)\, Samantha Parker Salazar (Illinois\, USA)\, and Sang-Mi Yoo (Texas\, USA). The Sarofim Fine Arts Gallery is open 12 - 5pm Tuesday - Sunday\, closed Mondays and holidays. The reception will be on February 10th. The gallery will be open through March 8th.
LOCATION:Southwestern University's Sarofim Fine Arts Gallery\, E. Ruttersville Dr\, Georgetown\, TX\, 78626
UID:e.2123.9550
SEQUENCE:3
DTSTAMP:20260421T145037Z
URL:https://laketravischamberfest.com/events/details/gallery-exhibition-artist-reception-off-the-wall-contemporary-prints-9550
END:VEVENT

END:VCALENDAR
