BEGIN:VCALENDAR
VERSION:2.0
PRODID:-//ChamberMaster//Event Calendar 2.0//EN
METHOD:PUBLISH
X-PUBLISHED-TTL:P3D
REFRESH-INTERVAL:P3D
CALSCALE:GREGORIAN
BEGIN:VEVENT
DTSTART:20230303T190000Z
DTEND:20230303T220000Z
X-MICROSOFT-CDO-ALLDAYEVENT:FALSE
SUMMARY:Frost Merchant Services Expo
DESCRIPTION:Discover simple ways to set your business up for success. Your Frost Merchant Services Business Consultant will demo Clover business tools to help your business run cost-effectively.
X-ALT-DESC;FMTTYPE=text/html:Discover simple ways to set your business up for success. Your Frost Merchant Services Business Consultant will demo Clover business tools to help your business run cost-effectively.
LOCATION:Lake Travis Financial Center 12532 FM 2244\, Suite 150 Bee Cave\, Texas 78738
UID:e.2123.11726
SEQUENCE:3
DTSTAMP:20260423T082802Z
URL:https://laketravischamberfest.com/events/details/frost-merchant-services-expo-11726
END:VEVENT

END:VCALENDAR
