BEGIN:VCALENDAR
VERSION:2.0
PRODID:-//ChamberMaster//Event Calendar 2.0//EN
METHOD:PUBLISH
X-PUBLISHED-TTL:P3D
REFRESH-INTERVAL:P3D
CALSCALE:GREGORIAN
BEGIN:VEVENT
DTSTART:20220722T170000Z
DTEND:20220722T190000Z
X-MICROSOFT-CDO-ALLDAYEVENT:FALSE
SUMMARY:Frost Bank Sweet Treats
DESCRIPTION:Stop by for a Sweet Treat compliments of Frost. We will be providing popsicles to the LT community!
X-ALT-DESC;FMTTYPE=text/html:Stop by for a Sweet Treat compliments of Frost. We will be providing popsicles to the LT community!
LOCATION:Lake Travis Financial Center 12532 FM 2244 Suite 150 Bee Cave\, Texas 78738
UID:e.2123.11136
SEQUENCE:3
DTSTAMP:20260423T204436Z
URL:https://laketravischamberfest.com/events/details/frost-bank-sweet-treats-11136
END:VEVENT

END:VCALENDAR
