BEGIN:VCALENDAR
VERSION:2.0
PRODID:-//ChamberMaster//Event Calendar 2.0//EN
METHOD:PUBLISH
X-PUBLISHED-TTL:P3D
REFRESH-INTERVAL:P3D
CALSCALE:GREGORIAN
BEGIN:VEVENT
DTSTART:20210416T160000Z
DTEND:20210416T190000Z
X-MICROSOFT-CDO-ALLDAYEVENT:FALSE
SUMMARY:Frost Bank SHRED IT
DESCRIPTION:Dispose of your documents and enjoy a sweet treat courtesy of Frost Bank! On Friday\, April 16 from 11:00 a.m. to 2:00 p.m.\, Frost is bringing shredding services to its Lake Travis Financial Center. So bring in your documents\, start shredding\, and protect your security. This is a drive-up event -- attendees may remain in their cars.
X-ALT-DESC;FMTTYPE=text/html:Dispose of your documents and enjoy a sweet treat courtesy of Frost Bank! On Friday\, April 16 from 11:00 a.m. to 2:00 p.m.\, Frost is bringing shredding services to its Lake Travis Financial Center. So bring in your documents\, start shredding\, and protect your security. This is a drive-up event -- attendees may remain in their cars.
LOCATION:Frost Bank Lake Travis Financial Center 12532 FM 2244 Road Bee Cave\, TX 78738
UID:e.2123.10357
SEQUENCE:3
DTSTAMP:20260423T224556Z
URL:https://laketravischamberfest.com/events/details/frost-bank-shred-it-10357
END:VEVENT

END:VCALENDAR
