BEGIN:VCALENDAR
VERSION:2.0
PRODID:-//ChamberMaster//Event Calendar 2.0//EN
METHOD:PUBLISH
X-PUBLISHED-TTL:P3D
REFRESH-INTERVAL:P3D
CALSCALE:GREGORIAN
BEGIN:VEVENT
DTSTART:20231209T160000Z
DTEND:20231209T180000Z
X-MICROSOFT-CDO-ALLDAYEVENT:FALSE
SUMMARY:Frost Bank Cookies With Santa
DESCRIPTION:Join in at the Stone Ridge Financial Center for a little holiday cheer! There will be cookies and a special appearance from Santa Claus. Bring your camera for a day to remember. This event is free and open to the public.
X-ALT-DESC;FMTTYPE=text/html:Join in at the Stone Ridge Financial Center for a little holiday cheer! There will be cookies and a special appearance from Santa Claus. Bring your camera for a day to remember. This event is free and open to the public.
LOCATION:Frost Bank Lake Travis Financial Center 12532 FM 2244 Road Suite 150 Bee Cave\, Texas 78738
UID:e.2123.11808
SEQUENCE:3
DTSTAMP:20260422T205454Z
URL:https://laketravischamberfest.com/events/details/frost-bank-cookies-with-santa-12-09-2023-11808
END:VEVENT

END:VCALENDAR
