BEGIN:VCALENDAR
VERSION:2.0
PRODID:-//ChamberMaster//Event Calendar 2.0//EN
METHOD:PUBLISH
X-PUBLISHED-TTL:P3D
REFRESH-INTERVAL:P3D
CALSCALE:GREGORIAN
BEGIN:VEVENT
DTSTART:20230324T163000Z
DTEND:20230324T183000Z
X-MICROSOFT-CDO-ALLDAYEVENT:FALSE
SUMMARY:Frost Bank Chuck Wagon Lunch
DESCRIPTION:Come Tip your Hat to Austin Rodeo and enjoy lunch on us!
X-ALT-DESC;FMTTYPE=text/html:Come Tip your Hat to Austin Rodeo and enjoy lunch on us!
LOCATION:Lake Travis Financial Center 12532 FM2244 Suite 150 Bee Cave \, Texas 78738
UID:e.2123.11716
SEQUENCE:3
DTSTAMP:20260423T082832Z
URL:https://laketravischamberfest.com/events/details/frost-bank-chuck-wagon-lunch-11716
END:VEVENT

END:VCALENDAR
