BEGIN:VCALENDAR
VERSION:2.0
PRODID:-//ChamberMaster//Event Calendar 2.0//EN
METHOD:PUBLISH
X-PUBLISHED-TTL:P3D
REFRESH-INTERVAL:P3D
CALSCALE:GREGORIAN
BEGIN:VEVENT
DTSTART:20190324T193000Z
DTEND:20190324T203000Z
X-MICROSOFT-CDO-ALLDAYEVENT:FALSE
SUMMARY:From Stuck to Unstoppable
DESCRIPTION:From Stuck to Unstoppable - Sunday\, March 24th at 2:30pm - Are you looking for prosperity and balance in your life and work? Learn three key strategies with certified DreamBuilder coach Susan Halaut.
X-ALT-DESC;FMTTYPE=text/html:From Stuck to Unstoppable - Sunday\, March 24th at 2:30pm - Are you looking for prosperity and balance in your life and work? Learn three key strategies with certified DreamBuilder coach Susan Halaut.
LOCATION:Lake Travis Community Library 1938 Lohmans Crossing Austin\, Texas 78734
UID:e.2123.9838
SEQUENCE:3
DTSTAMP:20260422T104013Z
URL:https://laketravischamberfest.com/events/details/from-stuck-to-unstoppable-9838
END:VEVENT

END:VCALENDAR
