BEGIN:VCALENDAR
VERSION:2.0
PRODID:-//ChamberMaster//Event Calendar 2.0//EN
METHOD:PUBLISH
X-PUBLISHED-TTL:P3D
REFRESH-INTERVAL:P3D
CALSCALE:GREGORIAN
BEGIN:VEVENT
DTSTART:20190607T150000Z
DTEND:20190607T230000Z
X-MICROSOFT-CDO-ALLDAYEVENT:FALSE
SUMMARY:Friends of the Library Book Sale
DESCRIPTION:Friends of the Library Book Sale - Friday\, June 7th from 10am to 6pm - Purchase an entire bag of books for just $10 from Nancy's Nook!
X-ALT-DESC;FMTTYPE=text/html:Friends of the Library Book Sale - Friday\, June 7th from 10am to 6pm - Purchase an entire bag of books for just $10 from Nancy&rsquo\;s Nook!
LOCATION:Lake Travis Community Library 1938 Lohmans Crossing Austin\, Texas 78734
UID:e.2123.9914
SEQUENCE:3
DTSTAMP:20260422T135301Z
URL:https://laketravischamberfest.com/events/details/friends-of-the-library-book-sale-06-07-2019-9914
END:VEVENT

END:VCALENDAR
