BEGIN:VCALENDAR
VERSION:2.0
PRODID:-//ChamberMaster//Event Calendar 2.0//EN
METHOD:PUBLISH
X-PUBLISHED-TTL:P3D
REFRESH-INTERVAL:P3D
CALSCALE:GREGORIAN
BEGIN:VEVENT
DTSTART:20190501T163000Z
DTEND:20190501T183000Z
X-MICROSOFT-CDO-ALLDAYEVENT:FALSE
SUMMARY:Fresh Dermatology Mother's Day Event
DESCRIPTION:Join us for a free lunch event! Learn more about the latest trends in the industry\, take advantage of huge discounts on products and services. All attendees are registered to win a 1 year supply of award-winning Skinceuticals CE Ferulic Vitamin C serum!
X-ALT-DESC;FMTTYPE=text/html:Join us for a free lunch event! Learn more about the latest trends in the industry\, take advantage of huge discounts on products and services. All attendees are registered to win a 1 year supply of award-winning Skinceuticals CE Ferulic Vitamin C serum!
LOCATION:Fresh Dermatology 1008 Ranch Rd 620 S #101 Lakeway\, Texas 78734
UID:e.2123.9894
SEQUENCE:3
DTSTAMP:20260422T121856Z
URL:https://laketravischamberfest.com/events/details/fresh-dermatology-mother-s-day-event-9894
END:VEVENT

END:VCALENDAR
