BEGIN:VCALENDAR
VERSION:2.0
PRODID:-//ChamberMaster//Event Calendar 2.0//EN
METHOD:PUBLISH
X-PUBLISHED-TTL:P3D
REFRESH-INTERVAL:P3D
CALSCALE:GREGORIAN
BEGIN:VEVENT
DTSTART:20200623T170000Z
DTEND:20200624T170000Z
X-MICROSOFT-CDO-ALLDAYEVENT:FALSE
SUMMARY:Football Combine
DESCRIPTION:A unique opportunity to showcase your skills for college coaches. MyPlayer2Player and Xceleration have partnered to create a local combine to help Austin area athletes showcase their talent to college coaches since most college football camps have been canceled due to COVID-19. The combine will measure and provide accurate information for coaches to evaluate football players wanting to play at the collegiate level. All events will be on video and provided to athlete and college. The combine will measure and record: 40-yard dash 20-yard shuttle run 3-cone drill Broad jump Vertical jump Height & weight
X-ALT-DESC;FMTTYPE=text/html:A unique opportunity to showcase your skills for college coaches. MyPlayer2Player and Xceleration have partnered to create a local combine to help Austin area athletes showcase their talent to college coaches since most college football camps have been canceled due to COVID-19. The combine will measure and provide accurate information for coaches to evaluate football players wanting to play at the collegiate level. All events will be on video and provided to athlete and college. The combine will measure and record: 40-yard dash 20-yard shuttle run 3-cone drill Broad jump Vertical jump Height &amp\; weight
LOCATION:Xceleration
UID:e.2123.10121
SEQUENCE:3
DTSTAMP:20260423T072808Z
URL:https://laketravischamberfest.com/events/details/football-combine-10121
END:VEVENT

END:VCALENDAR
