BEGIN:VCALENDAR
VERSION:2.0
PRODID:-//ChamberMaster//Event Calendar 2.0//EN
METHOD:PUBLISH
X-PUBLISHED-TTL:P3D
REFRESH-INTERVAL:P3D
CALSCALE:GREGORIAN
BEGIN:VEVENT
DTSTART:20190705T190000Z
DTEND:20190705T200000Z
X-MICROSOFT-CDO-ALLDAYEVENT:FALSE
SUMMARY:Flying the Space Shuttle
DESCRIPTION:Flying the Space Shuttle - Friday\, July 5th at 2pm - Join the Lakeway Heritage Committee for a special presentation by retired astronaut Ken Cockrell. Retired Captain Cockrell will share his first-hand account of the reality of going into space\, followed by a historical explanation of the why and how we got to the moon.
X-ALT-DESC;FMTTYPE=text/html:Flying the Space Shuttle - Friday\, July 5th at 2pm - Join the Lakeway Heritage Committee for a special presentation by retired astronaut Ken Cockrell. Retired Captain Cockrell will share his first-hand account of the reality of going into space\, followed by a historical explanation of the why and how we got to the moon.
LOCATION:Lake Travis Community Library 1938 Lohmans Crossing Austin\, Texas 78734
UID:e.2123.9947
SEQUENCE:3
DTSTAMP:20260422T152440Z
URL:https://laketravischamberfest.com/events/details/flying-the-space-shuttle-9947
END:VEVENT

END:VCALENDAR
